BEGIN:VCALENDAR
VERSION:2.0
PRODID:-//Squarespace Inc/Squarespace 6//v6//EN
BEGIN:VEVENT
UID:5e54a79a96222f7840dfd6ec@squarespace.com
DTSTAMP:20200225T045810Z
DTSTART:20200306T233000Z
DTEND:20200307T003000Z
SUMMARY:Offsite Event: Kathryn Hind 'Hitch'
END:VEVENT
END:VCALENDAR
