BEGIN:VCALENDAR
VERSION:2.0
PRODID:-//Squarespace Inc/Squarespace 6//v6//EN
BEGIN:VEVENT
UID:5e2f9ed3a261215a150255ec@squarespace.com
DTSTAMP:20200128T025324Z
DTSTART:20200308T133000Z
DTEND:20200308T160000Z
SUMMARY:Offsite Event: Dress For Success High Tea and Author talk with Chri
 stine Sykes 'The Changing Room'
GEO:-33.921777;150.924534
LOCATION:Liverpool City Library\, 170 George Street\, Liverpool NSW 2170\, 
 Australia
END:VEVENT
END:VCALENDAR
