BEGIN:VCALENDAR
VERSION:2.0
PRODID:-//Squarespace Inc/Squarespace 6//v6//EN
BEGIN:VEVENT
UID:5e420fcf1f12287bd47738ad@squarespace.com
DTSTAMP:20200211T023349Z
DTSTART:20200309T230000Z
DTEND:20200310T000000Z
SUMMARY:Offsite Event: In Conversation with Dr Hannah Critchlow
GEO:-28.001271;153.416713
LOCATION:HOTA\, 135 Bundall Road\, Surfers Paradise\, QLD 4217\, Australia
END:VEVENT
END:VCALENDAR
