BEGIN:VCALENDAR
VERSION:2.0
PRODID:-//Squarespace Inc/Squarespace 6//v6//EN
BEGIN:VEVENT
UID:5c751c4cc83025595572ef78@squarespace.com
DTSTAMP:20190524T065821Z
DTSTART:20190302T170000Z
DTEND:20190302T180000Z
SUMMARY:Author Talk: Dervla McTiernan 'The Ruin' &amp\; 'The Scholar'
GEO:-33.437318;151.392628
LOCATION:BOOK FACE Erina Fair\, Erina Dair Shopping Centre Shop KM 006\, Er
 ina NSW 2250
END:VEVENT
END:VCALENDAR
