BEGIN:VCALENDAR
VERSION:2.0
PRODID:-//Squarespace Inc/Squarespace 6//v6//EN
BEGIN:VEVENT
UID:5c74e14df9619a3ee9e3550a@squarespace.com
DTSTAMP:20190524T065842Z
DTSTART:20190321T220000Z
DTEND:20190322T000000Z
SUMMARY:Book Launch: 'Underdog: #LoveOzYA Short Stories'
GEO:-28.036514;153.428031
LOCATION:BOOK FACE Pacific Fair\, Pacific Fair Shopping Centre\, Broadbeach 
 Qld 4218
END:VEVENT
END:VCALENDAR
